BEGIN:VCALENDAR
VERSION:2.0
PRODID:-//wp-events-plugin.com//7.2.3.1//EN
TZID:America/Los_Angeles
X-WR-TIMEZONE:America/Los_Angeles
BEGIN:VEVENT
UID:1111@sllcspokane.org
DTSTART;TZID=America/Los_Angeles:20260520T183000
DTEND;TZID=America/Los_Angeles:20260520T200000
DTSTAMP:20251205T002153Z
URL:https://sllcspokane.org/events/5th-6th-grade-youth-group-2-2026-01-07-
 2026-01-14-2026-01-21-2026-01-28-2026-02-04-2026-02-11-2026-02-18-2026-02-
 25-2026-03-04-2026-03-11-2026-03-18-2026-03-25-2026-04-01-2026-04-08-2026-
 13-2026-05-20/
SUMMARY:5th & 6th Grade Youth Group
DESCRIPTION:
CATEGORIES:5th/6th Grade Youth Group,Kids Ministry
END:VEVENT
BEGIN:VTIMEZONE
TZID:America/Los_Angeles
X-LIC-LOCATION:America/Los_Angeles
BEGIN:DAYLIGHT
DTSTART:20260308T030000
TZOFFSETFROM:-0800
TZOFFSETTO:-0700
TZNAME:PDT
END:DAYLIGHT
END:VTIMEZONE
END:VCALENDAR