BEGIN:VCALENDAR
VERSION:2.0
PRODID:-//wp-events-plugin.com//7.2.3.1//EN
TZID:America/Los_Angeles
X-WR-TIMEZONE:America/Los_Angeles
BEGIN:VEVENT
UID:1097@sllcspokane.org
DTSTART;TZID=America/Los_Angeles:20260211T183000
DTEND;TZID=America/Los_Angeles:20260211T200000
DTSTAMP:20251205T002153Z
URL:https://sllcspokane.org/events/5th-6th-grade-youth-group-2-2026-01-07-
 2026-01-14-2026-01-21-2026-01-28-2026-02-04-2026-02-11/
SUMMARY:5th & 6th Grade Youth Group
DESCRIPTION:
CATEGORIES:5th/6th Grade Youth Group,Kids Ministry
END:VEVENT
BEGIN:VTIMEZONE
TZID:America/Los_Angeles
X-LIC-LOCATION:America/Los_Angeles
BEGIN:STANDARD
DTSTART:20251102T010000
TZOFFSETFROM:-0700
TZOFFSETTO:-0800
TZNAME:PST
END:STANDARD
END:VTIMEZONE
END:VCALENDAR