BEGIN:VCALENDAR
VERSION:2.0
PRODID:-//wp-events-plugin.com//7.2.3.1//EN
TZID:America/Los_Angeles
X-WR-TIMEZONE:America/Los_Angeles
BEGIN:VEVENT
UID:1128@sllcspokane.org
DTSTART;TZID=America/Los_Angeles:20260422T183000
DTEND;TZID=America/Los_Angeles:20260422T200000
DTSTAMP:20251205T003555Z
URL:https://sllcspokane.org/events/7th-12th-grade-confirmation-youth-group
 -2026-01-07-2026-01-14-2026-01-21-2026-01-28-2026-02-04-2026-02-11-2026-02
 -18-2026-02-25-2026-03-04-2026-03-11-2026-03-18-2026-03-25-2026-04-01-202-
 15-2026-04-22/
SUMMARY:7th-12th Grade Confirmation & Youth Group
DESCRIPTION:
CATEGORIES:Confirmation,Youth Group (7th-12th),Youth Ministry (7th-12th)
END:VEVENT
BEGIN:VTIMEZONE
TZID:America/Los_Angeles
X-LIC-LOCATION:America/Los_Angeles
BEGIN:DAYLIGHT
DTSTART:20260308T030000
TZOFFSETFROM:-0800
TZOFFSETTO:-0700
TZNAME:PDT
END:DAYLIGHT
END:VTIMEZONE
END:VCALENDAR