BEGIN:VCALENDAR
VERSION:2.0
PRODID:-//wp-events-plugin.com//7.2.3.1//EN
TZID:America/Los_Angeles
X-WR-TIMEZONE:America/Los_Angeles
BEGIN:VEVENT
UID:1175@sllcspokane.org
DTSTART;TZID=America/Los_Angeles:20260521T100000
DTEND;TZID=America/Los_Angeles:20260521T110000
DTSTAMP:20251205T003941Z
URL:https://sllcspokane.org/events/adult-bible-study-genesis-2026-01-08-20
 26-01-15-2026-01-22-2026-01-29-2026-02-05-2026-02-12-2026-02-19-2026-02-26
 -2026-03-05-2026-03-12-2026-03-19-2026-03-26-2026-04-02-2026-04-09-2026-0-
 14-2026-05-21/
SUMMARY:Adult Bible Study-Genesis
DESCRIPTION:
CATEGORIES:Bible Studies
END:VEVENT
BEGIN:VTIMEZONE
TZID:America/Los_Angeles
X-LIC-LOCATION:America/Los_Angeles
BEGIN:DAYLIGHT
DTSTART:20260308T030000
TZOFFSETFROM:-0800
TZOFFSETTO:-0700
TZNAME:PDT
END:DAYLIGHT
END:VTIMEZONE
END:VCALENDAR