BEGIN:VCALENDAR
VERSION:2.0
PRODID:-//wp-events-plugin.com//7.2.3.1//EN
TZID:America/Los_Angeles
X-WR-TIMEZONE:America/Los_Angeles
BEGIN:VEVENT
UID:1274@sllcspokane.org
DTSTART;TZID=America/Los_Angeles:20260519T120000
DTEND;TZID=America/Los_Angeles:20260519T130000
DTSTAMP:20251209T221019Z
URL:https://sllcspokane.org/events/altar-guild-2026-02-17-2026-03-17-2026-
 04-21-2026-05-19/
SUMMARY:Altar Guild
DESCRIPTION:
CATEGORIES:Other
END:VEVENT
BEGIN:VTIMEZONE
TZID:America/Los_Angeles
X-LIC-LOCATION:America/Los_Angeles
BEGIN:DAYLIGHT
DTSTART:20260308T030000
TZOFFSETFROM:-0800
TZOFFSETTO:-0700
TZNAME:PDT
END:DAYLIGHT
END:VTIMEZONE
END:VCALENDAR