BEGIN:VCALENDAR
VERSION:2.0
PRODID:-//wp-events-plugin.com//7.2.3.1//EN
TZID:America/Los_Angeles
X-WR-TIMEZONE:America/Los_Angeles
BEGIN:VEVENT
UID:1248@sllcspokane.org
DTSTART;TZID=America/Los_Angeles:20260511T130000
DTEND;TZID=America/Los_Angeles:20260511T143000
DTSTAMP:20251205T011010Z
URL:https://sllcspokane.org/events/alzheimer-caregivers-suport-group-2026-
 01-12-2026-02-09-2026-03-09-2026-04-13-2026-05-11/
SUMMARY:Alzheimer Caregiver's Suport Group
DESCRIPTION:
CATEGORIES:Other
END:VEVENT
BEGIN:VTIMEZONE
TZID:America/Los_Angeles
X-LIC-LOCATION:America/Los_Angeles
BEGIN:DAYLIGHT
DTSTART:20260308T030000
TZOFFSETFROM:-0800
TZOFFSETTO:-0700
TZNAME:PDT
END:DAYLIGHT
END:VTIMEZONE
END:VCALENDAR