BEGIN:VCALENDAR
VERSION:2.0
PRODID:-//wp-events-plugin.com//7.2.3.1//EN
TZID:America/Los_Angeles
X-WR-TIMEZONE:America/Los_Angeles
BEGIN:VEVENT
UID:645@sllcspokane.org
DTSTART;TZID=America/Los_Angeles:20260504T130000
DTEND;TZID=America/Los_Angeles:20260504T143000
DTSTAMP:20251106T230547Z
URL:https://sllcspokane.org/events/alzheimers-support-group-2025-11-03-202
 5-12-01-2026-01-05-2026-02-02-2026-03-02-2026-04-06-2026-05-04/
SUMMARY:Alzheimer's Support Group
DESCRIPTION:
CATEGORIES:Other
END:VEVENT
BEGIN:VTIMEZONE
TZID:America/Los_Angeles
X-LIC-LOCATION:America/Los_Angeles
BEGIN:DAYLIGHT
DTSTART:20260308T030000
TZOFFSETFROM:-0800
TZOFFSETTO:-0700
TZNAME:PDT
END:DAYLIGHT
END:VTIMEZONE
END:VCALENDAR