BEGIN:VCALENDAR
VERSION:2.0
PRODID:-//wp-events-plugin.com//7.2.3.1//EN
TZID:America/Los_Angeles
X-WR-TIMEZONE:America/Los_Angeles
BEGIN:VEVENT
UID:653@sllcspokane.org
DTSTART;TZID=America/Los_Angeles:20260518T130000
DTEND;TZID=America/Los_Angeles:20260518T143000
DTSTAMP:20251106T230547Z
URL:https://sllcspokane.org/events/alzheimers-support-group-2025-11-17-202
 5-12-15-2026-01-19-2026-02-16-2026-03-16-2026-04-20-2026-05-18/
SUMMARY:Alzheimer's Support Group
DESCRIPTION:
CATEGORIES:Other
END:VEVENT
BEGIN:VTIMEZONE
TZID:America/Los_Angeles
X-LIC-LOCATION:America/Los_Angeles
BEGIN:DAYLIGHT
DTSTART:20260308T030000
TZOFFSETFROM:-0800
TZOFFSETTO:-0700
TZNAME:PDT
END:DAYLIGHT
END:VTIMEZONE
END:VCALENDAR