BEGIN:VCALENDAR
VERSION:2.0
PRODID:-//wp-events-plugin.com//7.2.3.1//EN
TZID:America/Los_Angeles
X-WR-TIMEZONE:America/Los_Angeles
BEGIN:VEVENT
UID:1190@sllcspokane.org
DTSTART;TZID=America/Los_Angeles:20260226T180000
DTEND;TZID=America/Los_Angeles:20260226T190000
DTSTAMP:20251205T005848Z
URL:https://sllcspokane.org/events/choir-rehearsal-2026-01-08-2026-01-15-2
 026-01-22-2026-01-29-2026-02-05-2026-02-12-2026-02-19-2026-02-26/
SUMMARY:Choir Rehearsal
DESCRIPTION:
CATEGORIES:Choir
END:VEVENT
BEGIN:VTIMEZONE
TZID:America/Los_Angeles
X-LIC-LOCATION:America/Los_Angeles
BEGIN:STANDARD
DTSTART:20251102T010000
TZOFFSETFROM:-0700
TZOFFSETTO:-0800
TZNAME:PST
END:STANDARD
END:VTIMEZONE
END:VCALENDAR