BEGIN:VCALENDAR
VERSION:2.0
PRODID:-//wp-events-plugin.com//7.2.3.1//EN
TZID:America/Los_Angeles
X-WR-TIMEZONE:America/Los_Angeles
BEGIN:VEVENT
UID:1088@sllcspokane.org
DTSTART;TZID=America/Los_Angeles:20260504T153000
DTEND;TZID=America/Los_Angeles:20260504T170000
DTSTAMP:20251205T001952Z
URL:https://sllcspokane.org/events/morningside-after-school-club-2-2026-01
 -12-2026-01-19-2026-01-26-2026-02-02-2026-02-09-2026-02-16-2026-02-23-2026
 -03-02-2026-03-09-2026-03-16-2026-03-23-2026-03-30-2026-04-06-2026-04-13-2
 7-2026-05-04/
SUMMARY:Morningside After School Club
DESCRIPTION:
CATEGORIES:MorningSide After School Program
END:VEVENT
BEGIN:VTIMEZONE
TZID:America/Los_Angeles
X-LIC-LOCATION:America/Los_Angeles
BEGIN:DAYLIGHT
DTSTART:20260308T030000
TZOFFSETFROM:-0800
TZOFFSETTO:-0700
TZNAME:PDT
END:DAYLIGHT
END:VTIMEZONE
END:VCALENDAR