BEGIN:VCALENDAR
VERSION:2.0
PRODID:-//wp-events-plugin.com//7.2.3.1//EN
TZID:America/Los_Angeles
X-WR-TIMEZONE:America/Los_Angeles
BEGIN:VEVENT
UID:420@sllcspokane.org
DTSTART;TZID=America/Los_Angeles:20250911T123000
DTEND;TZID=America/Los_Angeles:20250911T140000
DTSTAMP:20250829T002712Z
URL:https://sllcspokane.org/events/owls-lunch-and-fellowship-2025-09-11/
SUMMARY:OWL's Lunch and Fellowship
DESCRIPTION:
CATEGORIES:Older, Wiser Lutherans
END:VEVENT
BEGIN:VTIMEZONE
TZID:America/Los_Angeles
X-LIC-LOCATION:America/Los_Angeles
BEGIN:DAYLIGHT
DTSTART:20250309T030000
TZOFFSETFROM:-0800
TZOFFSETTO:-0700
TZNAME:PDT
END:DAYLIGHT
END:VTIMEZONE
END:VCALENDAR