BEGIN:VCALENDAR
VERSION:2.0
PRODID:-//wp-events-plugin.com//7.2.3.1//EN
TZID:America/Los_Angeles
X-WR-TIMEZONE:America/Los_Angeles
BEGIN:VEVENT
UID:898@sllcspokane.org
DTSTART;TZID=America/Los_Angeles:20260505T090000
DTEND;TZID=America/Los_Angeles:20260505T113000
DTSTAMP:20251204T234948Z
URL:https://sllcspokane.org/events/patchwork-quilters-2026-01-06-2026-01-1
 3-2026-01-20-2026-01-27-2026-02-03-2026-02-10-2026-02-17-2026-02-24-2026-0
 3-03-2026-03-10-2026-03-17-2026-03-24-2026-03-31-2026-04-07-2026-04-14-20-
 28-2026-05-05/
SUMMARY:Patchwork Quilters
DESCRIPTION:
CATEGORIES:Patchwork Quilters
END:VEVENT
BEGIN:VTIMEZONE
TZID:America/Los_Angeles
X-LIC-LOCATION:America/Los_Angeles
BEGIN:DAYLIGHT
DTSTART:20260308T030000
TZOFFSETFROM:-0800
TZOFFSETTO:-0700
TZNAME:PDT
END:DAYLIGHT
END:VTIMEZONE
END:VCALENDAR