BEGIN:VCALENDAR
VERSION:2.0
PRODID:-//wp-events-plugin.com//7.2.3.1//EN
TZID:America/Los_Angeles
X-WR-TIMEZONE:America/Los_Angeles
BEGIN:VEVENT
UID:887@sllcspokane.org
DTSTART;TZID=America/Los_Angeles:20260217T090000
DTEND;TZID=America/Los_Angeles:20260217T113000
DTSTAMP:20251204T234948Z
URL:https://sllcspokane.org/events/patchwork-quilters-2026-01-06-2026-01-1
 3-2026-01-20-2026-01-27-2026-02-03-2026-02-10-2026-02-17/
SUMMARY:Patchwork Quilters
DESCRIPTION:
CATEGORIES:Patchwork Quilters
END:VEVENT
BEGIN:VTIMEZONE
TZID:America/Los_Angeles
X-LIC-LOCATION:America/Los_Angeles
BEGIN:STANDARD
DTSTART:20251102T010000
TZOFFSETFROM:-0700
TZOFFSETTO:-0800
TZNAME:PST
END:STANDARD
END:VTIMEZONE
END:VCALENDAR