BEGIN:VCALENDAR
VERSION:2.0
PRODID:-//wp-events-plugin.com//7.2.3.1//EN
TZID:America/Los_Angeles
X-WR-TIMEZONE:America/Los_Angeles
BEGIN:VEVENT
UID:114@sllcspokane.org
DTSTART;TZID=America/Los_Angeles:20251007T120000
DTEND;TZID=America/Los_Angeles:20251007T150000
DTSTAMP:20250814T231528Z
URL:https://sllcspokane.org/events/pickleball-2025-08-19-2025-08-26-2025-0
 9-02-2025-09-09-2025-09-16-2025-09-23-2025-09-30-2025-10-07/
SUMMARY:Pickleball
DESCRIPTION:No need to have experience to participate.
CATEGORIES:Pickleball
END:VEVENT
BEGIN:VTIMEZONE
TZID:America/Los_Angeles
X-LIC-LOCATION:America/Los_Angeles
BEGIN:DAYLIGHT
DTSTART:20250309T030000
TZOFFSETFROM:-0800
TZOFFSETTO:-0700
TZNAME:PDT
END:DAYLIGHT
END:VTIMEZONE
END:VCALENDAR