BEGIN:VCALENDAR
VERSION:2.0
PRODID:-//wp-events-plugin.com//7.2.3.1//EN
TZID:America/Los_Angeles
X-WR-TIMEZONE:America/Los_Angeles
BEGIN:VEVENT
UID:770@sllcspokane.org
DTSTART;TZID=America/Los_Angeles:20260503T100000
DTEND;TZID=America/Los_Angeles:20260503T110000
DTSTAMP:20260128T220150Z
URL:https://sllcspokane.org/events/sunday-school-hour-2-2026-05-03/
SUMMARY:Sunday School Hour
DESCRIPTION:
CATEGORIES:Adult Education Hour,Bible Studies,Kids Ministry,Sunday School
 (7th-12th),Sunday School (PreK-6th),Youth Ministry (7th-12th)
END:VEVENT
BEGIN:VTIMEZONE
TZID:America/Los_Angeles
X-LIC-LOCATION:America/Los_Angeles
BEGIN:DAYLIGHT
DTSTART:20260308T030000
TZOFFSETFROM:-0800
TZOFFSETTO:-0700
TZNAME:PDT
END:DAYLIGHT
END:VTIMEZONE
END:VCALENDAR