BEGIN:VCALENDAR
VERSION:2.0
PRODID:-//wp-events-plugin.com//7.2.3.1//EN
TZID:America/Los_Angeles
X-WR-TIMEZONE:America/Los_Angeles
BEGIN:VEVENT
UID:386@sllcspokane.org
DTSTART;TZID=America/Los_Angeles:20250921T100000
DTEND;TZID=America/Los_Angeles:20250921T110000
DTSTAMP:20250829T000647Z
URL:https://sllcspokane.org/events/sunday-school-hour-2025-09-07-2025-09-1
 4-2025-09-21/
SUMMARY:Sunday School Hour
DESCRIPTION:Sunday School for all ages PreK-6th grade in the basement\, 7th
 -12th grade in the Loft &amp\; Adults in the Genesis Room.
CATEGORIES:Adult Education Hour,Sunday School (7th-12th),Sunday School
 (PreK-6th)
END:VEVENT
BEGIN:VTIMEZONE
TZID:America/Los_Angeles
X-LIC-LOCATION:America/Los_Angeles
BEGIN:DAYLIGHT
DTSTART:20250309T030000
TZOFFSETFROM:-0800
TZOFFSETTO:-0700
TZNAME:PDT
END:DAYLIGHT
END:VTIMEZONE
END:VCALENDAR