BEGIN:VCALENDAR
VERSION:2.0
PRODID:-//wp-events-plugin.com//7.2.3.1//EN
TZID:America/Los_Angeles
X-WR-TIMEZONE:America/Los_Angeles
BEGIN:VEVENT
UID:1330@sllcspokane.org
DTSTART;TZID=America/Los_Angeles:20260507T113000
DTEND;TZID=America/Los_Angeles:20260507T123000
DTSTAMP:20260316T204243Z
URL:https://sllcspokane.org/events/tbd-monthly-womens-bible-study-debra-2/
SUMMARY:TBD Monthly Women's Bible Study (Debra)
DESCRIPTION:
CATEGORIES:Bible Studies
END:VEVENT
BEGIN:VTIMEZONE
TZID:America/Los_Angeles
X-LIC-LOCATION:America/Los_Angeles
BEGIN:DAYLIGHT
DTSTART:20260308T030000
TZOFFSETFROM:-0800
TZOFFSETTO:-0700
TZNAME:PDT
END:DAYLIGHT
END:VTIMEZONE
END:VCALENDAR